BEGIN:VCALENDAR
VERSION:2.0
PRODID:-//eventon.com NONSGML v1.0//EN
CALSCALE:GREGORIAN
METHOD:PUBLISH
BEGIN:VEVENT
UID:69eb884518b4e
DTSTAMP:20260424T151205Z
DTSTART:20240606T090000Z
DTEND:20240606T140000Z
LOCATION:
SUMMARY:Nationaldagsfirande på Salsta
DESCRIPTION:Torsdag 6 juni Nationaldagsfirande på Salsta\nhttps://astraken
 .se/events/nationaldagsfirande-pa-salsta-2/
URL:https://astraken.se/events/nationaldagsfirande-pa-salsta-2/
END:VEVENT
END:VCALENDAR