BEGIN:VCALENDAR
VERSION:2.0
PRODID:-//eventon.com NONSGML v1.0//EN
CALSCALE:GREGORIAN
METHOD:PUBLISH
BEGIN:VEVENT
UID:69eb9ccade5c1
DTSTAMP:20260424T163938Z
DTSTART:20240525
DTEND:20240526
LOCATION:
SUMMARY:Drop in bröllop
DESCRIPTION:”Drop-in bröllop” Läs mer om upplägget här.\nhttps://
 astraken.se/events/drop-in-brollop/
URL:https://astraken.se/events/drop-in-brollop/
END:VEVENT
END:VCALENDAR