BEGIN:VCALENDAR
VERSION:2.0
PRODID:-//eventon.com NONSGML v1.0//EN
CALSCALE:GREGORIAN
METHOD:PUBLISH
BEGIN:VEVENT
UID:69eb838fec046
DTSTAMP:20260424T145159Z
DTSTART:20240518T160000Z
DTEND:20240518T190000Z
LOCATION:
SUMMARY:Magi på Salsta
DESCRIPTION:Lördag 18 maj kl.18 ges Magi på Salsta\,  trolleriföreställ
 ningar med möjlighet att äta mingeltallrik. Unikt trolleri presenteras av
  den världsberömde svenske trollerikonstnären Tom Stone samt irländska 
 Nikola Arkane\,  känd i Sverige från när hon tävlade i Talang. Dessutom
  kommer medlemmar från UMB att visa close-up trolleri. Konferencier är Pe
 r Johan[..]\nhttps://astraken.se/events/magi-pa-salsta-2/
URL:https://astraken.se/events/magi-pa-salsta-2/
END:VEVENT
END:VCALENDAR