BEGIN:VCALENDAR
VERSION:2.0
PRODID:-//eventon.com NONSGML v1.0//EN
CALSCALE:GREGORIAN
METHOD:PUBLISH
BEGIN:VEVENT
UID:69eb9e0417a92
DTSTAMP:20260424T164452Z
DTSTART:20240512T050000Z
DTEND:20240512T090000Z
LOCATION:
SUMMARY:Gökotta
DESCRIPTION:Söndag 12 maj kl.07.00 Gökotta under ledning av Mats Wilhel
 m. Kl.09.00 serveras frukost i Slottskaféet. Anmälan till info@salsta-slo
 tt.se För den som vill vara på plats på morgonen ges möjlighet att öve
 rnatta i paviljongen.\nhttps://astraken.se/events/gokotta/
URL:https://astraken.se/events/gokotta/
END:VEVENT
END:VCALENDAR