BEGIN:VCALENDAR
VERSION:2.0
PRODID:-//eventon.com NONSGML v1.0//EN
CALSCALE:GREGORIAN
METHOD:PUBLISH
BEGIN:VEVENT
UID:69eb868556fe2
DTSTAMP:20260424T150437Z
DTSTART:20240407T110000Z
DTEND:20240407T130000Z
LOCATION:
SUMMARY:Guidad rundvandring
DESCRIPTION:Söndag 7 april kl.13 Guidad rundvandring. Pris 120kr/person. 
 Boka plats på info@salsta-slott.se\nhttps://astraken.se/events/guidad-rund
 vandring-3/
URL:https://astraken.se/events/guidad-rundvandring-3/
END:VEVENT
END:VCALENDAR