BEGIN:VCALENDAR
VERSION:2.0
PRODID:-//eventon.com NONSGML v1.0//EN
CALSCALE:GREGORIAN
METHOD:PUBLISH
BEGIN:VEVENT
UID:69eb836eaa624
DTSTAMP:20260424T145126Z
DTSTART:20240421T150000Z
DTEND:20240421T170000Z
LOCATION:
SUMMARY:Musik pÃ¥ Salsta - Iiro Komulainen
DESCRIPTION:SÃ¶ndag 21 aprilÂ kl.17Â Musik pÃ¥ Salsta slottÂ Iiro Komulaine
 n\,  konsertpianist. Boka biljett pÃ¥ info@salsta-slott.se Iiro KomulainenÂ
  har examen frÃ¥n musikkonservatoriet i Helsingfors\,  och har ocksÃ¥ stude
 rat vid Sibeliusakademin\,  fÃ¶r bland annat Minna PÃ¶llÃ¤nen och Ilari Ede
 lmann. Han konserterar nu runt om i Europa och har bland annat spelat vid f
 estivaler i Wien och[..]\nhttps://astraken.se/events/4652/
URL:https://astraken.se/events/4652/
END:VEVENT
END:VCALENDAR