BEGIN:VCALENDAR
VERSION:2.0
PRODID:-//eventon.com NONSGML v1.0//EN
CALSCALE:GREGORIAN
METHOD:PUBLISH
BEGIN:VEVENT
UID:69eb88a693103
DTSTAMP:20260424T151342Z
DTSTART:20240329T100000Z
DTEND:20240329T150000Z
LOCATION:
SUMMARY:Konst på väg
DESCRIPTION:Konst på väg Ingen föranmälan. Entré 80kr. Fri entré fö
 r barn under 15 år.\nhttps://astraken.se/events/konst-pa-vag-2/
URL:https://astraken.se/events/konst-pa-vag-2/
END:VEVENT
END:VCALENDAR