BEGIN:VCALENDAR
VERSION:2.0
PRODID:-//eventon.com NONSGML v1.0//EN
CALSCALE:GREGORIAN
METHOD:PUBLISH
BEGIN:VEVENT
UID:69ebb656ddedf
DTSTAMP:20260424T182838Z
DTSTART:20240309T160000Z
DTEND:20240309T190000Z
LOCATION:
SUMMARY:En middag som pÃ¥ 1700-talet
DESCRIPTION:SVT:s Historien om Sverige spelade in 1700-talsavsnittet pÃ¥ Sa
 lsta. Vi fÃ¶ljer dÃ¤rfÃ¶r upp fÃ¶rra vÃ¥ren 1600-talsmiddag med en middag i
  frihetstidens tecken\,  med den mat som Ã¥ts och den musik som spelades nÃ
 ¤r Arvid Horn var den som i praktiken styrde Sverige. AnmÃ¤lan till info@sa
 lsta-slott.se\nhttps://astraken.se/events/en-middag-som-pa-1700-talet/
URL:https://astraken.se/events/en-middag-som-pa-1700-talet/
END:VEVENT
END:VCALENDAR