BEGIN:VCALENDAR
VERSION:2.0
PRODID:-//eventon.com NONSGML v1.0//EN
CALSCALE:GREGORIAN
METHOD:PUBLISH
BEGIN:VEVENT
UID:69eb9d5a3fbfc
DTSTAMP:20260424T164202Z
DTSTART:20240127T170000Z
DTEND:20240127T200000Z
LOCATION:
SUMMARY:Middag med mordgåta
DESCRIPTION:Middag med mordgåta. Pris 720kr/person. Boka plats på info@sa
 lsta-slott.se\nhttps://astraken.se/events/middag-med-mordgata-3/
URL:https://astraken.se/events/middag-med-mordgata-3/
END:VEVENT
END:VCALENDAR