BEGIN:VCALENDAR
VERSION:2.0
PRODID:-//eventon.com NONSGML v1.0//EN
CALSCALE:GREGORIAN
METHOD:PUBLISH
BEGIN:VEVENT
UID:69ebb658a418c
DTSTAMP:20260424T182840Z
DTSTART:20240113T130000Z
DTEND:20240113T150000Z
LOCATION:
SUMMARY:Julgransplundring
DESCRIPTION:Lördag 13 januari Julgransplundring kl.14 Dansen inleds kl.14
 \,  därefter följer fikabuffé innan granen plundras från godis. Boka bi
 ljett här.\nhttps://astraken.se/events/julgransplundring-2/
URL:https://astraken.se/events/julgransplundring-2/
END:VEVENT
END:VCALENDAR