BEGIN:VCALENDAR
VERSION:2.0
PRODID:-//eventon.com NONSGML v1.0//EN
CALSCALE:GREGORIAN
METHOD:PUBLISH
BEGIN:VEVENT
UID:69eb9ce51839b
DTSTAMP:20260424T164005Z
DTSTART:20240217T130000Z
DTEND:20240217T150000Z
LOCATION:
SUMMARY:Musik på Salsta slott
DESCRIPTION:kl.14 Musik på Salsta slott Uppsala kammarsolister och Emman
 uel Laville\,  oboe\nhttps://astraken.se/events/musik-pa-salsta-slott-4/
URL:https://astraken.se/events/musik-pa-salsta-slott-4/
END:VEVENT
END:VCALENDAR