BEGIN:VCALENDAR
VERSION:2.0
PRODID:-//eventon.com NONSGML v1.0//EN
CALSCALE:GREGORIAN
METHOD:PUBLISH
BEGIN:VEVENT
UID:69eb9ce31d1c2
DTSTAMP:20260424T164003Z
DTSTART:20231213T150000Z
DTEND:20231213T180000Z
LOCATION:
SUMMARY:LUCIAKVÄLL PÅ CENTRUMBLOMMOR!
DESCRIPTION:Vi öppnar upp för en kväll i skapandet och pysslandets tecke
 n! Julgranen står redo att kläs av alla barn\,  vi bjuder på glögg och 
 pepparkakor och möjligheten finns att pynta sin egen julkrans av våra fä
 rdigbundna stommar. Under kvällen har ni även 15% rabatt på alla julblom
 mor och allt julpynt.[..]\nhttps://astraken.se/events/luciakvall-pa-centrum
 blommor/
URL:https://astraken.se/events/luciakvall-pa-centrumblommor/
END:VEVENT
END:VCALENDAR