BEGIN:VCALENDAR
VERSION:2.0
PRODID:-//eventon.com NONSGML v1.0//EN
CALSCALE:GREGORIAN
METHOD:PUBLISH
BEGIN:VEVENT
UID:69eb83d667c0b
DTSTAMP:20260424T145310Z
DTSTART:20231013T090000Z
DTEND:20231013T160000Z
LOCATION:
SUMMARY:Julmarknad Ã–sterbybruk
DESCRIPTION:VÃ¤lkomna till den populÃ¤ra JulmÃ¤ssan pÃ¥ Ã–sterbybruks herrg
 Ã¥rd\,  enÂ gammaldags slÃ¶jd- och hantverksmarknad. Ã–ver 80 utstÃ¤llare s
 Ã¤ljer sina hantverk i en utsÃ¶kt omgivning i Ã¥nghammarsmedjan och den stÃ
 ¥tliga bruksherrgÃ¥rden. PÃ¥ mÃ¤ssan hittar man Ã¤ven en vÃ¤lfylld matbod. 
 Ã–sterbybruk var under 1600-talet vÃ¤rldens stÃ¶rsta jÃ¤rnbruk och Ã¤r i da
 g en smakfullt bevarad[..]\nhttps://astraken.se/events/julmarknad-osterbybr
 uk/
URL:https://astraken.se/events/julmarknad-osterbybruk/
END:VEVENT
END:VCALENDAR