BEGIN:VCALENDAR
VERSION:2.0
PRODID:-//eventon.com NONSGML v1.0//EN
CALSCALE:GREGORIAN
METHOD:PUBLISH
BEGIN:VEVENT
UID:69eb9d5458816
DTSTAMP:20260424T164156Z
DTSTART:20230908T173000Z
DTEND:20230908T193000Z
LOCATION:
SUMMARY:Shirley Clamp och Trio X
DESCRIPTION:Shirley Clamp och Trio X Trio X och Shirley Clamp Fredag 8 sept
 ember 19:30 | ”Björkis” Björkvallsvägen 2–4 Medryckande\,  glatt\,
   svängigt och hjärtligt! Trio X och Shirley Clamp på turné i länet. 
 lskad sångerska på turné i länet Shirley Clamp turnérar tillsammans m
 ed Trio X\,  Medryckande\,  glatt\,  svängigt och hjärtligt![..]\nhttps:/
 /astraken.se/events/shirley-clamp-och-trio-x/
URL:https://astraken.se/events/shirley-clamp-och-trio-x/
END:VEVENT
END:VCALENDAR