BEGIN:VCALENDAR
VERSION:2.0
PRODID:-//eventon.com NONSGML v1.0//EN
CALSCALE:GREGORIAN
METHOD:PUBLISH
BEGIN:VEVENT
UID:69eb9d5643f2f
DTSTAMP:20260424T164158Z
DTSTART:20230826
DTEND:20230827
LOCATION:
SUMMARY:Storvretadagen 2023
DESCRIPTION:Mer info och program: https://www.facebook.com/profile.php?id=1
 00083071463845\nhttps://astraken.se/events/storvretadagen-2023/
URL:https://astraken.se/events/storvretadagen-2023/
END:VEVENT
END:VCALENDAR