BEGIN:VCALENDAR
VERSION:2.0
PRODID:-//eventon.com NONSGML v1.0//EN
CALSCALE:GREGORIAN
METHOD:PUBLISH
BEGIN:VEVENT
UID:69eb85f10c20d
DTSTAMP:20260424T150209Z
DTSTART:20230827T093000Z
DTEND:20230827T130000Z
LOCATION:
SUMMARY:BjÃ¶rklingedagen 2023
DESCRIPTION:BjÃ¶rklingedagen 27 augusti 2023 Den 27 augusti arrangerar vi Ã
 ¥rets BjÃ¶klingedag. I Ã¥r har vi 33 deltagare pÃ¥ minimÃ¤ssan utanfÃ¶r hem
 bygdsmusÃ¨et\,  nytt deltagarrekord! Dessutom kan vi erbjuda HELIKOPTERUPPS
 TIGNINGAR om vÃ¤dret tillÃ¥ter. Varmt vÃ¤lkomna. Se program hÃ¤r:Â  https:/
 /filer.hembygd.se/bjorklinge/uploads/files/2023/07/06/Bj-dag%202023%20A3%20
 230723.pdf &nbsp;\nhttps://astraken.se/events/bjorklingedagen-2023/
URL:https://astraken.se/events/bjorklingedagen-2023/
END:VEVENT
END:VCALENDAR