BEGIN:VCALENDAR
VERSION:2.0
PRODID:-//eventon.com NONSGML v1.0//EN
CALSCALE:GREGORIAN
METHOD:PUBLISH
BEGIN:VEVENT
UID:69eb83da79ec7
DTSTAMP:20260424T145314Z
DTSTART:20231125T090000Z
DTEND:20231125T150000Z
LOCATION:
SUMMARY:Ulva Julmarknad
DESCRIPTION:Ulva julmarknad Väck julstämningen i ditt hjärta under vår 
 mysiga julmarknad! Vi bjuder på vacker körsång under dagen och en spänn
 ande eldshow när mörkret faller. På marknaden säljer vi också Ulvas eg
 entillverkade glögg. Ät gott\,  njut av stämningen och julklappshandla u
 nika hantverk till dina nära och kära. Berika dina sinnen[..]\nhttps://as
 traken.se/events/ulva-julmarknad-2/
URL:https://astraken.se/events/ulva-julmarknad-2/
END:VEVENT
END:VCALENDAR