BEGIN:VCALENDAR
VERSION:2.0
PRODID:-//eventon.com NONSGML v1.0//EN
CALSCALE:GREGORIAN
METHOD:PUBLISH
BEGIN:VEVENT
UID:69eba253cc024
DTSTAMP:20260424T170315Z
DTSTART:20230909T080000Z
DTEND:20230909T213000Z
LOCATION:
SUMMARY:Kulturnatten Gamla Uppsala Museum
DESCRIPTION:Den 9 september anordnas kulturnatten i Uppsala och i år tycke
 r vi du ska ta chansen att tillbringa den här i Gamla Uppsala. Vi håller 
 öppet ända fram till midnatt med visningar\,  sagoläsning och ett klurig
 t äventyrsspår. Kvällen avslutas med visning på en av kungshögarna\,  
 förhoppningsvis i månens sken. Program:[..]\nhttps://astraken.se/events/k
 ulturnatten-gamla-uppsala-museum/
URL:https://astraken.se/events/kulturnatten-gamla-uppsala-museum/
END:VEVENT
END:VCALENDAR