BEGIN:VCALENDAR
VERSION:2.0
PRODID:-//eventon.com NONSGML v1.0//EN
CALSCALE:GREGORIAN
METHOD:PUBLISH
BEGIN:VEVENT
UID:69eb9ce90395d
DTSTAMP:20260424T164009Z
DTSTART:20230825T090000Z
DTEND:20230825T173000Z
LOCATION:
SUMMARY:Festivalhelg i Österbybruk
DESCRIPTION:Program Fredag 25/8 11.00 – 16.00 Utställning med träskulpt
 ör Per Brandstedt. Plats Sadelmakarlängan -galleri och butik. 13.00-14.00
  Guidad herrgårdstur. Samling och köp av biljett vid herrgårdsbutiken p
  Stallbacken. 16.00 – 17.00. Walburga Habsburg Douglas\,  journalist och
  jurist – barnbarn till den siste kejsaren av Österrike-Ungern – talar
  på temat ”Europa[..]\nhttps://astraken.se/events/festivalhelg-i-osterby
 bruk/
URL:https://astraken.se/events/festivalhelg-i-osterbybruk/
END:VEVENT
END:VCALENDAR