BEGIN:VCALENDAR
VERSION:2.0
PRODID:-//eventon.com NONSGML v1.0//EN
CALSCALE:GREGORIAN
METHOD:PUBLISH
BEGIN:VEVENT
UID:69eb861c1edf0
DTSTAMP:20260424T150252Z
DTSTART:20231210T150000Z
DTEND:20231210T170000Z
LOCATION:
SUMMARY:Adventskonsert - Trio Bendz
DESCRIPTION:Söndag 10 december kl.16 Adventskonsert med Trio Bendz\,  med 
 möjlighet att äta jultallrik efter konserten. Trion består av Maria Bend
 z\,  piano och sång\,  Hanna Bendz\,  cello och sång\,  samt Emma Bendz\,
   sång. Programmet består av nya arrangemang av traditionella advents- oc
 h julsånger\,  kryddat med några mindre traditionella stycken. Anmälan t
 ill[..]\nhttps://astraken.se/events/adventskonsert-trio-bendz/
URL:https://astraken.se/events/adventskonsert-trio-bendz/
END:VEVENT
END:VCALENDAR