BEGIN:VCALENDAR
VERSION:2.0
PRODID:-//eventon.com NONSGML v1.0//EN
CALSCALE:GREGORIAN
METHOD:PUBLISH
BEGIN:VEVENT
UID:69eba19fa3d0e
DTSTAMP:20260424T170015Z
DTSTART:20231028T160000Z
DTEND:20231028T190000Z
LOCATION:
SUMMARY:Middag med andarna
DESCRIPTION:Middag med andarna Boka biljett här. Känslan av att få kon
 takt med ”den andra sidan” är äkta oavsett om det är på riktigt ell
 er inte. Att få den upplevelsen samtidigt som man avnjuter en fabulös mid
 dag på ett riktigt slott är höstens största händelse. Unna dig själv 
 eller dina närmaste ett unikt[..]\nhttps://astraken.se/events/middag-med-a
 ndarna-2/
URL:https://astraken.se/events/middag-med-andarna-2/
END:VEVENT
END:VCALENDAR