BEGIN:VCALENDAR
VERSION:2.0
PRODID:-//eventon.com NONSGML v1.0//EN
CALSCALE:GREGORIAN
METHOD:PUBLISH
BEGIN:VEVENT
UID:69eb9cef278c9
DTSTAMP:20260424T164015Z
DTSTART:20231001T100000Z
DTEND:20231001T120000Z
LOCATION:
SUMMARY:Guidad rundvandring Salsta
DESCRIPTION:Guidad rundvandring Boka biljett på info@salsta-slott.se\nhttp
 s://astraken.se/events/guidad-rundvandring-salsta/
URL:https://astraken.se/events/guidad-rundvandring-salsta/
END:VEVENT
END:VCALENDAR