BEGIN:VCALENDAR
VERSION:2.0
PRODID:-//eventon.com NONSGML v1.0//EN
CALSCALE:GREGORIAN
METHOD:PUBLISH
BEGIN:VEVENT
UID:69eb8395e525c
DTSTAMP:20260424T145205Z
DTSTART:20231031T170000Z
DTEND:20231031T203000Z
LOCATION:
SUMMARY:Spökvandringar
DESCRIPTION:Spökvandringar kl.18\,  19 och 20.15. Anmälan till info@sals
 ta-slott.se Finns något spöke på Salsta? Det vi vet är att alla slott h
 ar sina spökhistorier. Så också Salsta\,  och i en särskilt utformad ru
 ndvandring får du istället för den ordinarie rundturens fakta om slottet
 s historia ta del av sägner med övernaturliga inslag\,  och[..]\nhttps://
 astraken.se/events/spokvandringar-2/
URL:https://astraken.se/events/spokvandringar-2/
END:VEVENT
END:VCALENDAR