BEGIN:VCALENDAR
VERSION:2.0
PRODID:-//eventon.com NONSGML v1.0//EN
CALSCALE:GREGORIAN
METHOD:PUBLISH
BEGIN:VEVENT
UID:69eb890d7b0ce
DTSTAMP:20260424T151525Z
DTSTART:20231001T120000Z
DTEND:20231001T140000Z
LOCATION:
SUMMARY:Temavisning - Spännande kvinnor
DESCRIPTION:Temavisning ”Spännande kvinnor på Salsta slott” Boka bilj
 ett på info@salsta-slott.se\nhttps://astraken.se/events/temavisning-spanna
 nde-kvinnor/
URL:https://astraken.se/events/temavisning-spannande-kvinnor/
END:VEVENT
END:VCALENDAR