BEGIN:VCALENDAR
VERSION:2.0
PRODID:-//eventon.com NONSGML v1.0//EN
CALSCALE:GREGORIAN
METHOD:PUBLISH
BEGIN:VEVENT
UID:69eb9d5308e32
DTSTAMP:20260424T164155Z
DTSTART:20231021T160000Z
DTEND:20231021T180000Z
LOCATION:
SUMMARY:Middag med mordgåta
DESCRIPTION:Middag med mordgåta Boka biljett på info@salsta-slott.se\nht
 tps://astraken.se/events/middag-med-mordgata-2/
URL:https://astraken.se/events/middag-med-mordgata-2/
END:VEVENT
END:VCALENDAR