BEGIN:VCALENDAR
VERSION:2.0
PRODID:-//eventon.com NONSGML v1.0//EN
CALSCALE:GREGORIAN
METHOD:PUBLISH
BEGIN:VEVENT
UID:69eb89517dbd4
DTSTAMP:20260424T151633Z
DTSTART:20230923T140000Z
DTEND:20230923T160000Z
LOCATION:
SUMMARY:Musik på Salsta - Duo Delarosa
DESCRIPTION:Lördag 23 september kl.16 Musik på Salsta slott Duo Delaros
 a Boka biljett på info@salsta-slott.se\nhttps://astraken.se/events/musik
 -pa-salsta-duo-delarosa/
URL:https://astraken.se/events/musik-pa-salsta-duo-delarosa/
END:VEVENT
END:VCALENDAR