BEGIN:VCALENDAR
VERSION:2.0
PRODID:-//eventon.com NONSGML v1.0//EN
CALSCALE:GREGORIAN
METHOD:PUBLISH
BEGIN:VEVENT
UID:69eb8648284bf
DTSTAMP:20260424T150336Z
DTSTART:20230929T170000Z
DTEND:20230929T190000Z
LOCATION:
SUMMARY:Champange-provning
DESCRIPTION:Det vi provar oss igenom är olika snittar ihop med olika spän
 nande champagne från mindre\,  helt suveräna producenter. Efter snittarna
  blir det choklad och champagne. Boka här: https://handjord.se/vinprovning
 \nhttps://astraken.se/events/champange-provning/
URL:https://astraken.se/events/champange-provning/
END:VEVENT
END:VCALENDAR