BEGIN:VCALENDAR
VERSION:2.0
PRODID:-//eventon.com NONSGML v1.0//EN
CALSCALE:GREGORIAN
METHOD:PUBLISH
BEGIN:VEVENT
UID:69eb9d622a109
DTSTAMP:20260424T164210Z
DTSTART:20230902T110000Z
DTEND:20230902T130000Z
LOCATION:
SUMMARY:Lunch med mordgåta
DESCRIPTION:Lunch med mordgåta Boka biljett på info@salsta-slott.se\nhtt
 ps://astraken.se/events/lunch-med-mordgata-6/
URL:https://astraken.se/events/lunch-med-mordgata-6/
END:VEVENT
END:VCALENDAR