BEGIN:VCALENDAR
VERSION:2.0
PRODID:-//eventon.com NONSGML v1.0//EN
CALSCALE:GREGORIAN
METHOD:PUBLISH
BEGIN:VEVENT
UID:69eb88379f3f0
DTSTAMP:20260424T151151Z
DTSTART:20230827T100000Z
DTEND:20230827T120000Z
LOCATION:
SUMMARY:Lunch med mordgåta
DESCRIPTION:Söndag 27 augusti kl.12.00 Lunch med mordgåta Boka biljett
  på info@salsta-slott.se Fransk potatissallad\,  kryddiga kycklingspett\, 
  slottsdressing\,  sallad och bröd.\nhttps://astraken.se/events/lunch-med
 -mordgata-5/
URL:https://astraken.se/events/lunch-med-mordgata-5/
END:VEVENT
END:VCALENDAR