BEGIN:VCALENDAR
VERSION:2.0
PRODID:-//eventon.com NONSGML v1.0//EN
CALSCALE:GREGORIAN
METHOD:PUBLISH
BEGIN:VEVENT
UID:69eb842de5b2b
DTSTAMP:20260424T145437Z
DTSTART:20230825T100000Z
DTEND:20230825T140000Z
LOCATION:
SUMMARY:Öppet slott och utställning
DESCRIPTION:Öppet slott och visning av utställningen Legender. Entré 8
 0 kr. Kan köpas på plats.\nhttps://astraken.se/events/oppet-slott-och-uts
 tallning/
URL:https://astraken.se/events/oppet-slott-och-utstallning/
END:VEVENT
END:VCALENDAR