BEGIN:VCALENDAR
VERSION:2.0
PRODID:-//eventon.com NONSGML v1.0//EN
CALSCALE:GREGORIAN
METHOD:PUBLISH
BEGIN:VEVENT
UID:69eb9dd758add
DTSTAMP:20260424T164407Z
DTSTART:20230904T160000Z
DTEND:20230904T180000Z
LOCATION:
SUMMARY:Romeo och Julia - utomhusteater
DESCRIPTION:Romeo &amp; Julia\,  utomhusteater med TNT Britain\,  som turn
 erar med uppsättningen på slott i Europa under sommaren? Biljetter bokas 
 på info@salsta-slott.se och kostar 350kr för vuxna och 200kr för stude
 nter/ungdomar. Observera att detta inte är ett eget arrangemang och att å
 rskortet därför inte ger fri entré.\nhttps://astraken.se/events/romeo-oc
 h-julia-utomhusteater/
URL:https://astraken.se/events/romeo-och-julia-utomhusteater/
END:VEVENT
END:VCALENDAR