BEGIN:VCALENDAR
VERSION:2.0
PRODID:-//eventon.com NONSGML v1.0//EN
CALSCALE:GREGORIAN
METHOD:PUBLISH
BEGIN:VEVENT
UID:69eb9fb846a4d
DTSTAMP:20260424T165208Z
DTSTART:20231015T080000Z
DTEND:20231015T140000Z
LOCATION:
SUMMARY:Bakkurs med kulturspannmål
DESCRIPTION:I höst blir det bakkurser med fokus på kulturspannmål\,  fle
 ra datum är på gång. Vi kommer att baka bröd med kulturspannmål\,  lag
 a måltidsgröt och tunnbröd med de äldre sorterna och mala vårt eget mj
 öl. Lär dig tänka i ny-gamla banor hur vi kan använda närproducerade s
 pannmål på ett hållbart sätt![..]\nhttps://astraken.se/events/bakkurs-m
 ed-kulturspannmal/
URL:https://astraken.se/events/bakkurs-med-kulturspannmal/
END:VEVENT
END:VCALENDAR