BEGIN:VCALENDAR
VERSION:2.0
PRODID:-//eventon.com NONSGML v1.0//EN
CALSCALE:GREGORIAN
METHOD:PUBLISH
BEGIN:VEVENT
UID:69eb83d86c817
DTSTAMP:20260424T145312Z
DTSTART:20230910T070000Z
DTEND:20230910T083000Z
LOCATION:
SUMMARY:Fågelvandring
DESCRIPTION:Anders kommer som tidigare att ha fågelvandringar strax innan 
 caféet öppnar\,  de flesta gånger vi har öppet i höst. På hösten sam
 las fåglarna återigen i Vendelsjön och man kan spana efter tranor\,  gä
 ss och andra sydflyttande fåglar. Vandringarna startar kl 0900 söndagar e
 nligt nedan och pågår ungefär 1\, 5 timme. Samling[..]\nhttps://astraken
 .se/events/fagelvandring/
URL:https://astraken.se/events/fagelvandring/
END:VEVENT
END:VCALENDAR