BEGIN:VCALENDAR
VERSION:2.0
PRODID:-//eventon.com NONSGML v1.0//EN
CALSCALE:GREGORIAN
METHOD:PUBLISH
BEGIN:VEVENT
UID:69ebb513531f5
DTSTAMP:20260424T182315Z
DTSTART:20230623
DTEND:20230624
LOCATION:
SUMMARY:Midsommarfest i Trekanten
DESCRIPTION:Båda dagarna Bar och servering Vattholmabo och konstnär Johan
  Salberg ställer ut i värdshuset. Lotterier — Chokladhjul — Kafé —
  Kiosk — Ballonger — Popcorn — Sockervadd Midsommarfesten i Vattholma
  arrangeras av Wattholma Kultur- &amp; Hembygdsförening i samarbete med Wa
 ttholma IF\,  Lena församling samt Vattholma I Samverkan (VIS). Midsommara
 fton 13.00[..]\nhttps://astraken.se/events/midsommarfest-i-trekanten/
URL:https://astraken.se/events/midsommarfest-i-trekanten/
END:VEVENT
END:VCALENDAR