BEGIN:VCALENDAR
VERSION:2.0
PRODID:-//eventon.com NONSGML v1.0//EN
CALSCALE:GREGORIAN
METHOD:PUBLISH
BEGIN:VEVENT
UID:69eb86e3617e9
DTSTAMP:20260424T150611Z
DTSTART:20230614T170000Z
DTEND:20230614T193000Z
LOCATION:
SUMMARY:Bilbingo
DESCRIPTION:Onsdagen den 14 juni startar vi upp bilbingon vid idrottsplatse
 n i Vattholma. Vi spelar varje onsdag kl. 19 fram till den 30 aug. Brickfö
 rsäljningen startar kl. 17 och endast kontant betalning. Pennor och tejp f
 inns i kiosken att köpa\,  betalning kontant eller swish. Spel: Block 50 k
 r ( pottan 15.000[..]\nhttps://astraken.se/events/bilbingo-2/
URL:https://astraken.se/events/bilbingo-2/
END:VEVENT
END:VCALENDAR