BEGIN:VCALENDAR
VERSION:2.0
PRODID:-//eventon.com NONSGML v1.0//EN
CALSCALE:GREGORIAN
METHOD:PUBLISH
BEGIN:VEVENT
UID:69eb8397ea9f6
DTSTAMP:20260424T145207Z
DTSTART:20230930T080000Z
DTEND:20230930T130000Z
LOCATION:
SUMMARY:Veteranplöjardagen
DESCRIPTION:Vi plöjer med våra veteraner från klockan 10 till 15 på lö
 rdagen den 30 september. Har du ett eget ekipage och vill vara med och plö
 ja? Starta upp och kom! Kaffe\,  korv och hamburgare finns. Inget inträde.
  Välkomna!\nhttps://astraken.se/events/veteranplojardagen/
URL:https://astraken.se/events/veteranplojardagen/
END:VEVENT
END:VCALENDAR