BEGIN:VCALENDAR
VERSION:2.0
PRODID:-//eventon.com NONSGML v1.0//EN
CALSCALE:GREGORIAN
METHOD:PUBLISH
BEGIN:VEVENT
UID:69eb9ceb1c8ff
DTSTAMP:20260424T164011Z
DTSTART:20230701T080000Z
DTEND:20230701T130000Z
LOCATION:
SUMMARY:Veterantraktordagen
DESCRIPTION:Den 1:a juli 2023 från kl 10 till 15 är det dags för veteran
 traktordagen. Vid denna aktivitet plockas ett stort antal traktorer ut och 
 demonstrationsköres med tidstypiska redskap samt övriga aktiviteter som l
 ockar och passar hela familjen.\nhttps://astraken.se/events/veterantraktord
 agen/
URL:https://astraken.se/events/veterantraktordagen/
END:VEVENT
END:VCALENDAR