BEGIN:VCALENDAR
VERSION:2.0
PRODID:-//eventon.com NONSGML v1.0//EN
CALSCALE:GREGORIAN
METHOD:PUBLISH
BEGIN:VEVENT
UID:69ebb611e8554
DTSTAMP:20260424T182729Z
DTSTART:20230429T070000Z
DTEND:20230429T130000Z
LOCATION:
SUMMARY:Veteranmarknaden
DESCRIPTION:Den 29:e april 2023 Ã¤r det dags fÃ¶r Veteranmarknaden\,  hÃ¤r 
 sÃ¤ljs delar till allt motorburet gammalt och Ã¤ven sÃ¥dant som gÃ¥r under 
 benÃ¤mningenÂ kuriosaÂ â€“ det Ã¤r faktiskt allt sorts gamla saker som salu
 fÃ¶rs pÃ¥ marknaden och sedan visar man upp redskap och material som kan tÃ
 ¤nkas anvÃ¤ndas i den s.k.Â Hobbyn. MedarrangÃ¶r[..]\nhttps://astraken.se/e
 vents/veteranmarknaden/
URL:https://astraken.se/events/veteranmarknaden/
END:VEVENT
END:VCALENDAR