BEGIN:VCALENDAR
VERSION:2.0
PRODID:-//eventon.com NONSGML v1.0//EN
CALSCALE:GREGORIAN
METHOD:PUBLISH
BEGIN:VEVENT
UID:69eba19d9d9fc
DTSTAMP:20260424T170013Z
DTSTART:20230727T160000Z
DTEND:20230727T180000Z
LOCATION:
SUMMARY:Klassiskt\,  poetiskt\,   melodiskt och svängigt
DESCRIPTION:Lennart Simonsson känd jazzprofil\,  pianist &amp; kompositör
  Svante Henryson cellist\,  kompositör\,  med ett brett musikaliskt regi
 ster Anna Widing\,  konsertsångerska och musikalartist Dessa tre mångsidi
 ga artister bjuder på ett vackert och omväxlande program\,  skapat specie
 llt för Orangeriet! Boka biljett\nhttps://astraken.se/events/klassiskt-poe
 tiskt-melodiskt-och-svangigt/
URL:https://astraken.se/events/klassiskt-poetiskt-melodiskt-och-svangigt/
END:VEVENT
END:VCALENDAR