BEGIN:VCALENDAR
VERSION:2.0
PRODID:-//eventon.com NONSGML v1.0//EN
CALSCALE:GREGORIAN
METHOD:PUBLISH
BEGIN:VEVENT
UID:69eb88c0976e9
DTSTAMP:20260424T151408Z
DTSTART:20230719T160000Z
DTEND:20230719T180000Z
LOCATION:
SUMMARY:Vivaldis  ”Le quattro stagioni”
DESCRIPTION:Fem musiker\,  några av Sveriges bästa solister\,  framför V
 ivaldis “De fyra årstiderna” i kammarmusikformat. Sofie Sunnerstam\,
   violin Filip Gloria\,  violin Vidar Andersson Meilink\,  viola Josep C
 astanyer Alonso\,  cello Åse Mathiesen\,  klaver Boka biljett\nhttps://as
 traken.se/events/vivaldis-le-quattro-stagioni/
URL:https://astraken.se/events/vivaldis-le-quattro-stagioni/
END:VEVENT
END:VCALENDAR