BEGIN:VCALENDAR
VERSION:2.0
PRODID:-//eventon.com NONSGML v1.0//EN
CALSCALE:GREGORIAN
METHOD:PUBLISH
BEGIN:VEVENT
UID:69eb88ceedfd0
DTSTAMP:20260424T151422Z
DTSTART:20230713T160000Z
DTEND:20230713T180000Z
LOCATION:
SUMMARY:Pianokonsert med Roland PÃ¶ntinen
DESCRIPTION:Upplev enÂ kvÃ¤ll i OrangerietÂ tillsammansÂ med enÂ mÃ¤stare R
 olandÂ PÃ¶ntinen Sveriges mestÂ meriterade konsertpianist\,  med vÃ¤rlden s
 om arbetsfÃ¤lt ochÂ medÂ enÂ sÃ¤rskild kÃ¤rlek till den romantiska musiken.
  MÃ¤staren kommer att framfÃ¶ra flera verk avÂ FrÃ©dÃ©ric Chopin\,  bl.a nÃ
 ¥gra av hans mest Ã¤lskade nocturner\,  mazurkor och pianosonaten nr 2 i b-
 moll. I Roland PÃ¶ntinens program ingÃ¥r ocksÃ¥ musik avÂ Sergej Rachmanino
 v\, Â Maurice[..]\nhttps://astraken.se/events/pianokonsert-med-roland-ponti
 nen/
URL:https://astraken.se/events/pianokonsert-med-roland-pontinen/
END:VEVENT
END:VCALENDAR