BEGIN:VCALENDAR
VERSION:2.0
PRODID:-//eventon.com NONSGML v1.0//EN
CALSCALE:GREGORIAN
METHOD:PUBLISH
BEGIN:VEVENT
UID:69eb9d2e43541
DTSTAMP:20260424T164118Z
DTSTART:20230705
DTEND:20230706
LOCATION:
SUMMARY:Susanna Stern & Duo Dialog framför Dvořák
DESCRIPTION:Susanna Stern &amp; Duo Dialog framför Dvořák Susanna Ste
 rn känd operasångerska\,  Jenny Lindstipendiat m.m.\,  en storartad art
 ist Klarinettisten Dan Larsson och gitarristen Magnus Grönlund utgör D
 uo Dialog\,  Sveriges ledande ensemble för klarinett och gitarr Tillsamm
 ans framför de A. Dvořáks sångcykel ”Zigeunermelodien” i en ny\,  g
 ripande bearbetning och fler stycken av honom och andra klassiska tonsätta
 re. Köp biljett För frågor kontakta per[..]\nhttps://astraken.se/events
 /susanna-stern-duo-dialog-framfor-dvorak/
URL:https://astraken.se/events/susanna-stern-duo-dialog-framfor-dvorak/
END:VEVENT
END:VCALENDAR