BEGIN:VCALENDAR
VERSION:2.0
PRODID:-//eventon.com NONSGML v1.0//EN
CALSCALE:GREGORIAN
METHOD:PUBLISH
BEGIN:VEVENT
UID:69eb9ced1c079
DTSTAMP:20260424T164013Z
DTSTART:20230414
DTEND:20230415
LOCATION:
SUMMARY:Utställning - Mats Wilhelms naturfotografier
DESCRIPTION:Utställning - Mats Wilhelms naturfotografier\nhttps://astraken
 .se/events/utstallning-mats-wilhelms-naturfotografier/
URL:https://astraken.se/events/utstallning-mats-wilhelms-naturfotografier/
END:VEVENT
END:VCALENDAR