BEGIN:VCALENDAR
VERSION:2.0
PRODID:-//eventon.com NONSGML v1.0//EN
CALSCALE:GREGORIAN
METHOD:PUBLISH
BEGIN:VEVENT
UID:69ebb5cb5de4a
DTSTAMP:20260424T182619Z
DTSTART:20230429
DTEND:20230430
LOCATION:
SUMMARY:8 rätters avsmakningsmeny
DESCRIPTION:Den 29 april serveras en spännande 8 rätters avsmakningsmeny 
 i slottets restaurang på bottenvåningen. Välkommen att boka bord! Kväll
 ens meny: Aubergineshot\,  vedrökt bacon Pilgrimsmusslor\,  blomkålskräm
 \,  brynt smör med chili &amp; citrongräs Lårfilé av Ockelbokyckling se
 rverad med japansk nudelsallad och jordnötssås Råbiff på wagyu\,  avoka
 dokräm och rispapperschips Torskrygg med risoni smaksatt[..]\nhttps://astr
 aken.se/events/8-ratters-avsmakningsmeny/
URL:https://astraken.se/events/8-ratters-avsmakningsmeny/
END:VEVENT
END:VCALENDAR