BEGIN:VCALENDAR
VERSION:2.0
PRODID:-//eventon.com NONSGML v1.0//EN
CALSCALE:GREGORIAN
METHOD:PUBLISH
BEGIN:VEVENT
UID:69eb9d98259a0
DTSTAMP:20260424T164304Z
DTSTART:20230407T090000Z
DTEND:20230407T140000Z
LOCATION:
SUMMARY:PÃ¥skÃ¶ppet i samband med Konst pÃ¥ vÃ¤g
DESCRIPTION:PÃ¥skÃ¶ppet i samband med Konst pÃ¥ vÃ¤g. 7- 9 april Kl 11 &#82
 11; 16 FÃ¥gelvandringar (samma dagar) med Anders som startar kl 09 vid fÃ¥g
 eltornsparkeringen UtstÃ¤llning\,  naturfotografier av Mats Wilhelm FÃ¥gelv
 andringar med Anders 7.9 april : kl 9-10.30\,  med start vid Varggropens fÃ
 ¥geltorn &#8211; lÃ¤r dig mer om fÃ¥glar i[..]\nhttps://astraken.se/events/
 paskoppet-i-samband-med-konst-pa-vag/
URL:https://astraken.se/events/paskoppet-i-samband-med-konst-pa-vag/
END:VEVENT
END:VCALENDAR