BEGIN:VCALENDAR
VERSION:2.0
PRODID:-//eventon.com NONSGML v1.0//EN
CALSCALE:GREGORIAN
METHOD:PUBLISH
BEGIN:VEVENT
UID:69eb83c67aaf7
DTSTAMP:20260424T145254Z
DTSTART:20230325T100000Z
DTEND:20230325T150000Z
LOCATION:
SUMMARY:Caféet öppnar – våffeldagen
DESCRIPTION:Caféet öppnar – våffeldagen\nhttps://astraken.se/events/ca
 feet-oppnar-vaffeldagen/
URL:https://astraken.se/events/cafeet-oppnar-vaffeldagen/
END:VEVENT
END:VCALENDAR