BEGIN:VCALENDAR
VERSION:2.0
PRODID:-//eventon.com NONSGML v1.0//EN
CALSCALE:GREGORIAN
METHOD:PUBLISH
BEGIN:VEVENT
UID:69eb9d9c28bd5
DTSTAMP:20260424T164308Z
DTSTART:20230320T170000Z
DTEND:20230320T180000Z
LOCATION:
SUMMARY:Första fågelkursträffen
DESCRIPTION:Första fågelkursträffen kl 18 (obs anmälan behövs)\nhttps:
 //astraken.se/events/forsta-fagelkurstraffen/
URL:https://astraken.se/events/forsta-fagelkurstraffen/
END:VEVENT
END:VCALENDAR