BEGIN:VCALENDAR
VERSION:2.0
PRODID:-//eventon.com NONSGML v1.0//EN
CALSCALE:GREGORIAN
METHOD:PUBLISH
BEGIN:VEVENT
UID:69eb891c35ea0
DTSTAMP:20260424T151540Z
DTSTART:20230319T090000Z
DTEND:20230319T140000Z
LOCATION:
SUMMARY:Inspirationsdag om Ã¤ldre spannmÃ¥l
DESCRIPTION:Inspirationsdag om Ã¤ldre spannmÃ¥l (kulturspannmÃ¥l) Detta Ã¤r
  dagen fÃ¶r dig som vill: 1. lÃ¤ra dig att baka nyttiga och goda surdegsbrÃ
 ¶d med kulturspannmÃ¥l 2. anvÃ¤nda mer fullkornsprodukter och Ã¤r nyfiken p
 Ã¥ att mala ditt mjÃ¶l sjÃ¤lv i egen kvarn 3. lÃ¤ra dig mer om hÃ¤lsosamma 
 spannmÃ¥l och Ã¤ta mer vÃ¤xtbaserad\, [..]\nhttps://astraken.se/events/insp
 irationsdag-om-aldre-spannmal/
URL:https://astraken.se/events/inspirationsdag-om-aldre-spannmal/
END:VEVENT
END:VCALENDAR