BEGIN:VCALENDAR
VERSION:2.0
PRODID:-//eventon.com NONSGML v1.0//EN
CALSCALE:GREGORIAN
METHOD:PUBLISH
BEGIN:VEVENT
UID:69eb9e8fe2519
DTSTAMP:20260424T164711Z
DTSTART:20230317T153000Z
DTEND:20230317T183000Z
LOCATION:
SUMMARY:Pizza pÃ¥ Ã„ngslyckans cafÃ©
DESCRIPTION:Stenugnsbakad surdegspizza Fredag den 17 mars kan ni bestÃ¤lla 
 pizza och brÃ¶d fÃ¶r avhÃ¤mtning. Ã–ppet 16.30 &#8211; 19.30. Pizzorna behÃ
 ¶ver fÃ¶rbokas\,  senast torsdag kvÃ¤ll. Ju tidigare\,  desto stÃ¶rre chans
  att fÃ¥ vÃ¤lja tid. Vi kan ocksÃ¥ halvgrÃ¤dda dem\,  sÃ¥ ger ni dem en sis
 ta grillning i hemmaugnen. BestÃ¤ll via PM[..]\nhttps://astraken.se/events/
 pizza-pa-angslyckans-cafe/
URL:https://astraken.se/events/pizza-pa-angslyckans-cafe/
END:VEVENT
END:VCALENDAR