BEGIN:VCALENDAR
VERSION:2.0
PRODID:-//eventon.com NONSGML v1.0//EN
CALSCALE:GREGORIAN
METHOD:PUBLISH
BEGIN:VEVENT
UID:69eb83e99a7a2
DTSTAMP:20260424T145329Z
DTSTART:20230527
DTEND:20230528
LOCATION:
SUMMARY:Bröllopsdag på Salsta
DESCRIPTION:Lördag 27 maj Bröllopsdag på Salsta För den som drömt om
  ett slottsbröllop men vill slippa ståhej med förberedelser ges en gylle
 ne chans till ett minne för livet. Anmäl intresse till info@salsta-slott.
 se  Läs mer om upplägget här.\nhttps://astraken.se/events/brollopsdag-p
 a-salsta/
URL:https://astraken.se/events/brollopsdag-pa-salsta/
END:VEVENT
END:VCALENDAR